
BEGIN:VCALENDAR
VERSION:2.0
PRODID:-//CAE DRUMMOND - ECPv6.13.2.1//NONSGML v1.0//EN
CALSCALE:GREGORIAN
METHOD:PUBLISH
X-ORIGINAL-URL:https://www.caedrummond.ca
X-WR-CALDESC:Events for CAE DRUMMOND
REFRESH-INTERVAL;VALUE=DURATION:PT1H
X-Robots-Tag:noindex
X-PUBLISHED-TTL:PT1H
BEGIN:VTIMEZONE
TZID:America/Toronto
BEGIN:DAYLIGHT
TZOFFSETFROM:-0500
TZOFFSETTO:-0400
TZNAME:EDT
DTSTART:20240310T070000
END:DAYLIGHT
BEGIN:STANDARD
TZOFFSETFROM:-0400
TZOFFSETTO:-0500
TZNAME:EST
DTSTART:20241103T060000
END:STANDARD
END:VTIMEZONE
BEGIN:VEVENT
DTSTART;TZID=America/Toronto:20240314T090000
DTEND;TZID=America/Toronto:20240314T150000
DTSTAMP:20260421T053008
CREATED:20240131T164426Z
LAST-MODIFIED:20240131T164821Z
UID:1217-1710406800-1710428400@www.caedrummond.ca
SUMMARY:Formation en coût de revient et gestion des coûts avec M. André Fréchette\, CPA\, CA\, CMA\, 4e édition
DESCRIPTION:En raison de la forte popularité de cet événement\, nous sommes de retour pour une 4e édition avec notre fameuse formation sur la gestion du coût de revient.\nVoici les notions traitées : \n\nDéfinition et utilité du coût de revient\nNotion de frais fixes\, frais variables\, contribution marginale\nExemple de calcul du coût de revient via une proposition d’un client. « On accepte le prix ou on refuse? »\nEntreprise de service\, notion des heures à valeurs ajoutées\nNotion de la comptabilité par activités.\nÉléments de réflexion dans un contexte de soumissions\, soit la maximisation de la. contribution en fonction du/des goulots
URL:https://www.caedrummond.ca/evenement/formation-en-cout-de-revient-et-gestion-des-couts-avec-m-andre-frechette-cpa-ca-cma-4e-edition/
LOCATION:Hôtel et Suites Le Dauphin\, 600 Boulevard St-Joseph\, Drummondville\, Québec\, J2C 2C1
CATEGORIES:Atelier de formation
ATTACH;FMTTYPE=image/jpeg:https://www.caedrummond.ca/wp-content/uploads/2024/01/evenement-14-mars-cout-de-revient-1920-x-1920-px.jpg
ORGANIZER;CN="CAE Drummond":MAILTO:info@caedrummond.ca
END:VEVENT
END:VCALENDAR