
BEGIN:VCALENDAR
VERSION:2.0
PRODID:-//CAE DRUMMOND - ECPv6.13.2.1//NONSGML v1.0//EN
CALSCALE:GREGORIAN
METHOD:PUBLISH
X-ORIGINAL-URL:https://www.caedrummond.ca
X-WR-CALDESC:Events for CAE DRUMMOND
REFRESH-INTERVAL;VALUE=DURATION:PT1H
X-Robots-Tag:noindex
X-PUBLISHED-TTL:PT1H
BEGIN:VTIMEZONE
TZID:America/Toronto
BEGIN:DAYLIGHT
TZOFFSETFROM:-0500
TZOFFSETTO:-0400
TZNAME:EDT
DTSTART:20230312T070000
END:DAYLIGHT
BEGIN:STANDARD
TZOFFSETFROM:-0400
TZOFFSETTO:-0500
TZNAME:EST
DTSTART:20231105T060000
END:STANDARD
END:VTIMEZONE
BEGIN:VEVENT
DTSTART;TZID=America/Toronto:20230309T090000
DTEND;TZID=America/Toronto:20230309T150000
DTSTAMP:20260421T212621
CREATED:20230208T163138Z
LAST-MODIFIED:20230213T171955Z
UID:1122-1678352400-1678374000@www.caedrummond.ca
SUMMARY:Formation en coût de revient et gestion des coûts avec M. André Fréchette\, CPA\, CA\, CMA\, 3e édition
DESCRIPTION:Nous sommes de retour avec notre fameuse formation. Voici les notions traitées :\n Définition et utilité du coût de revient\n Notion de frais fixes\, frais variables\, contribution marginale\n Exemple de calcul du coût de revient via une proposition d’un client. « On\naccepte le prix ou on refuse? »\n Entreprise de service\, notion des heures à valeurs ajoutées\n Notion de la comptabilité par activités.\n Éléments de réflexion dans un contexte de soumissions\, soit la maximisation de la\ncontribution en fonction du/des goulots \nPour vous inscrire:\nhttps://www.eventbrite.ca/e/539310029817
URL:https://www.caedrummond.ca/evenement/formation-en-cout-de-revient-et-gestion-des-couts-avec-m-andre-frechette-cpa-ca-cma-3e-edition/
LOCATION:Hôtel et Suites Le Dauphin\, 600 Boulevard St-Joseph\, Drummondville\, Québec\, J2C 2C1
CATEGORIES:Atelier de formation
ATTACH;FMTTYPE=image/jpeg:https://www.caedrummond.ca/wp-content/uploads/2023/02/bandeau-mars-2023.jpg
ORGANIZER;CN="CAE Drummond":MAILTO:info@caedrummond.ca
END:VEVENT
END:VCALENDAR