
BEGIN:VCALENDAR
VERSION:2.0
PRODID:-//CAE DRUMMOND - ECPv6.13.2.1//NONSGML v1.0//EN
CALSCALE:GREGORIAN
METHOD:PUBLISH
X-ORIGINAL-URL:https://www.caedrummond.ca
X-WR-CALDESC:Events for CAE DRUMMOND
REFRESH-INTERVAL;VALUE=DURATION:PT1H
X-Robots-Tag:noindex
X-PUBLISHED-TTL:PT1H
BEGIN:VTIMEZONE
TZID:America/Toronto
BEGIN:DAYLIGHT
TZOFFSETFROM:-0500
TZOFFSETTO:-0400
TZNAME:EDT
DTSTART:20220313T070000
END:DAYLIGHT
BEGIN:STANDARD
TZOFFSETFROM:-0400
TZOFFSETTO:-0500
TZNAME:EST
DTSTART:20221106T060000
END:STANDARD
END:VTIMEZONE
BEGIN:VEVENT
DTSTART;TZID=America/Toronto:20220329T090000
DTEND;TZID=America/Toronto:20220329T153000
DTSTAMP:20260424T132658
CREATED:20220309T195941Z
LAST-MODIFIED:20220309T195941Z
UID:1030-1648544400-1648567800@www.caedrummond.ca
SUMMARY:Formation en coût de revient avec M. André Fréchette\, CPA\, CA\, CMA
DESCRIPTION: 
URL:https://www.caedrummond.ca/evenement/formation-en-cout-de-revient-avec-m-andre-frechette-cpa-ca-cma/
LOCATION:Hôtel et Suites Le Dauphin\, 600 Boulevard St-Joseph\, Drummondville\, Québec\, J2C 2C1
CATEGORIES:Atelier de formation
ORGANIZER;CN="CAE Drummond":MAILTO:info@caedrummond.ca
END:VEVENT
END:VCALENDAR