
BEGIN:VCALENDAR
VERSION:2.0
PRODID:-//CAE DRUMMOND - ECPv6.13.2.1//NONSGML v1.0//EN
CALSCALE:GREGORIAN
METHOD:PUBLISH
X-ORIGINAL-URL:https://www.caedrummond.ca
X-WR-CALDESC:Events for CAE DRUMMOND
REFRESH-INTERVAL;VALUE=DURATION:PT1H
X-Robots-Tag:noindex
X-PUBLISHED-TTL:PT1H
BEGIN:VTIMEZONE
TZID:America/Toronto
BEGIN:DAYLIGHT
TZOFFSETFROM:-0500
TZOFFSETTO:-0400
TZNAME:EDT
DTSTART:20220313T070000
END:DAYLIGHT
BEGIN:STANDARD
TZOFFSETFROM:-0400
TZOFFSETTO:-0500
TZNAME:EST
DTSTART:20221106T060000
END:STANDARD
END:VTIMEZONE
BEGIN:VEVENT
DTSTART;TZID=America/Toronto:20220215T090000
DTEND;TZID=America/Toronto:20220215T100000
DTSTAMP:20260424T144816
CREATED:20220121T203635Z
LAST-MODIFIED:20220121T203635Z
UID:1010-1644915600-1644919200@www.caedrummond.ca
SUMMARY:Atelier - Favoriser l’inclusion des personnes en situation de handicap en milieu de travail
DESCRIPTION:
URL:https://www.caedrummond.ca/evenement/atelier-favoriser-linclusion-des-personnes-en-situation-de-handicap-en-milieu-de-travail/
LOCATION:Québec
CATEGORIES:Atelier de formation
ATTACH;FMTTYPE=image/jpeg:https://www.caedrummond.ca/wp-content/uploads/2022/01/evenement-15-fev-1.jpg
ORGANIZER;CN="CAE Drummond":MAILTO:info@caedrummond.ca
END:VEVENT
END:VCALENDAR